BEGIN:VCALENDAR
VERSION:2.0
PRODID:-//AudioTheme 3.0.2
BEGIN:VEVENT
UID:urn:uuid:173601f4-a6cb-42d7-a7ac-8c40851e0e6d
URL:https://www.steveestabrook.com/shows/2018-07-16/
DTSTART;TZID=GMT:20180717T010000
SUMMARY:Nicholsons MusiCafe
DESCRIPTION:Myself and James Israel will be playing live from 6:00PM to approximately 9:00PM I have a batch of new songs and my new CD! Don't miss!
LOCATION:Nicholsons MusiCafe\, 623 E. Bidwell Street\,   Folsom\, CA 95630\, Folsom\, CA\, 95630
END:VEVENT
END:VCALENDAR
